
BEGIN:VCALENDAR
VERSION:2.0
PRODID:-//TYPO3/NONSGML News system (news)//EN
BEGIN:VEVENT
UID:news-3547@www.utzenstorf.ch
DTSTAMP:20251202T102029Z
DTSTART:20261113T201500Z
DTEND:20261113T201500Z
SUMMARY:Chor der Nationen Solothurn
DESCRIPTION:
ORGANIZER;CN="Kulturverein Utzenstorf"
LOCATION:Reformierte Kirche Utzenstorf
END:VEVENT
BEGIN:VEVENT
UID:news-3624@www.utzenstorf.ch
DTSTAMP:20260204T082138Z
DTSTART:20260828T193000Z
DTEND:20260828T193000Z
SUMMARY:Dorfständli 
DESCRIPTION:
ORGANIZER;CN="Musikgesellschaft Frohsinn Utzenstorf "
LOCATION:Restaurant Rössli 
END:VEVENT
END:VCALENDAR

