
BEGIN:VCALENDAR
VERSION:2.0
PRODID:-//TYPO3/NONSGML News system (news)//EN
BEGIN:VEVENT
UID:news-3555@www.utzenstorf.ch
DTSTAMP:20251210T161935Z
DTSTART:20260627T100000Z
DTEND:20260627T113000Z
SUMMARY:Büchertausch Café
DESCRIPTION:
ORGANIZER;CN="Karin Glauser"
LOCATION:Bibliothek
END:VEVENT
BEGIN:VEVENT
UID:news-3584@www.utzenstorf.ch
DTSTAMP:20260129T141141Z
DTSTART:20260530T100000Z
DTEND:20260530T113000Z
SUMMARY:Büchertausch Café
DESCRIPTION:
ORGANIZER;CN="Karin Glauser"
LOCATION:Bibliothek
END:VEVENT
BEGIN:VEVENT
UID:news-3554@www.utzenstorf.ch
DTSTAMP:20251210T161905Z
DTSTART:20260502T100000Z
DTEND:20260502T113000Z
SUMMARY:Büchertausch Café
DESCRIPTION:
ORGANIZER;CN="Karin Glauser"
LOCATION:Bibliothek
END:VEVENT
END:VCALENDAR

