
BEGIN:VCALENDAR
VERSION:2.0
PRODID:-//TYPO3/NONSGML News system (news)//EN
BEGIN:VEVENT
UID:news-3568@www.utzenstorf.ch
DTSTAMP:20260126T110025Z
DTSTART:20260919T000000Z
DTEND:20260919T000000Z
SUMMARY:Kom. Prüfung und Derby
DESCRIPTION:
ORGANIZER;CN="KRV Fraubrunnen &amp; Umgebung"
LOCATION:Schachen Utzenstorf
END:VEVENT
BEGIN:VEVENT
UID:news-3409@www.utzenstorf.ch
DTSTAMP:20250613T105245Z
DTSTART:20260819T000000Z
DTEND:20260819T000000Z
SUMMARY:32. Emmenlauf
DESCRIPTION:
ORGANIZER;CN="OK EmmenLauf"
LOCATION:Saal Anlage Bätterkinden
END:VEVENT
BEGIN:VEVENT
UID:news-3648@www.utzenstorf.ch
DTSTAMP:20260220T082353Z
DTSTART:20260816T000000Z
DTEND:20260816T000000Z
SUMMARY:Volksplatzgen
DESCRIPTION:
ORGANIZER;CN="Platzgerclub Utzenstorf"
LOCATION:Platzgerplatz
END:VEVENT
BEGIN:VEVENT
UID:news-3647@www.utzenstorf.ch
DTSTAMP:20260220T082341Z
DTSTART:20260815T000000Z
DTEND:20260815T000000Z
SUMMARY:Volksplatzgen
DESCRIPTION:
ORGANIZER;CN="Platzgerclub Utzenstorf"
LOCATION:Platzgerplatz
END:VEVENT
BEGIN:VEVENT
UID:news-3646@www.utzenstorf.ch
DTSTAMP:20260220T082319Z
DTSTART:20260814T000000Z
DTEND:20260814T000000Z
SUMMARY:Volksplatzgen
DESCRIPTION:
ORGANIZER;CN="Platzgerclub Utzenstorf"
LOCATION:Platzgerplatz
END:VEVENT
BEGIN:VEVENT
UID:news-3700@www.utzenstorf.ch
DTSTAMP:20260310T165303Z
DTSTART:20260808T000000Z
DTEND:20260808T000000Z
SUMMARY:Dorfturnier
DESCRIPTION:
ORGANIZER;CN="FC Utzenstorf"
LOCATION:Fussballplatz Utzenstorf
END:VEVENT
BEGIN:VEVENT
UID:news-3567@www.utzenstorf.ch
DTSTAMP:20260126T105807Z
DTSTART:20260717T000000Z
DTEND:20260719T000000Z
SUMMARY:Concours Utzenstorf 
DESCRIPTION:
ORGANIZER;CN="KRV Fraubrunnen &amp; Umgebung"
LOCATION:Schachen Utzenstorf
END:VEVENT
BEGIN:VEVENT
UID:news-3701@www.utzenstorf.ch
DTSTAMP:20260310T165542Z
DTSTART:20260612T000000Z
DTEND:20260612T000000Z
SUMMARY:Willi Steffen-Cup, Senioren 50+
DESCRIPTION:
ORGANIZER;CN="FC Utzenstorf"
LOCATION:Fussballplatz Utzenstorf
END:VEVENT
BEGIN:VEVENT
UID:news-3635@www.utzenstorf.ch
DTSTAMP:20260211T095531Z
DTSTART:20260520T170000Z
DTEND:20260520T210000Z
SUMMARY:41. Kräiliger Geländelauf
DESCRIPTION:
ORGANIZER;CN="Jugendriege Bätterkinden "
LOCATION:Hornusserhütte Kräiligen (Rüttistrasse) 
END:VEVENT
BEGIN:VEVENT
UID:news-3564@www.utzenstorf.ch
DTSTAMP:20260109T081535Z
DTSTART:20260509T090000Z
DTEND:20260509T160000Z
SUMMARY:Tischtenniscup «Untere Emme» 
DESCRIPTION:
ORGANIZER;CN="TTC Utzenstorf"
LOCATION:Mehrzweckhalle Utzenstorf
END:VEVENT
BEGIN:VEVENT
UID:news-3707@www.utzenstorf.ch
DTSTAMP:20260313T095127Z
DTSTART:20260502T110000Z
DTEND:20260502T150000Z
SUMMARY:Kick-off-Event «schweiz.bewegt
DESCRIPTION:
ORGANIZER;CN="Kultur- und Sportkommission"
LOCATION:Schulhausareal
END:VEVENT
END:VCALENDAR

